BEGIN:VCALENDAR
VERSION:2.0
PRODID:-//Nacionalista Zóna - ECPv4.6.16//NONSGML v1.0//EN
CALSCALE:GREGORIAN
METHOD:PUBLISH
X-WR-CALNAME:Nacionalista Zóna
X-ORIGINAL-URL:http://nacionalistazona.org
X-WR-CALDESC:Events for Nacionalista Zóna
BEGIN:VEVENT
DTSTART;VALUE=DATE:20220423
DTEND;VALUE=DATE:20220424
DTSTAMP:20260425T220953
CREATED:20220303T071710Z
LAST-MODIFIED:20220318T163200Z
UID:2977-1650672000-1650758399@nacionalistazona.org
SUMMARY:Blutzeugen koncert
DESCRIPTION: \nTovábbi információk hamarosan! \n – Programajánló / N.Z. – \n
URL:http://nacionalistazona.org/event/blutzeugen-koncert/
LOCATION:Budapest\, Budapest
END:VEVENT
END:VCALENDAR