BEGIN:VCALENDAR
VERSION:2.0
PRODID:-//Nacionalista Zóna - ECPv4.6.16//NONSGML v1.0//EN
CALSCALE:GREGORIAN
METHOD:PUBLISH
X-WR-CALNAME:Nacionalista Zóna
X-ORIGINAL-URL:http://nacionalistazona.org
X-WR-CALDESC:Events for Nacionalista Zóna
BEGIN:VEVENT
DTSTART;TZID=UTC+0:20190211T180000
DTEND;TZID=UTC+0:20190211T200000
DTSTAMP:20260426T034701
CREATED:20190130T232007Z
LAST-MODIFIED:20190130T232007Z
UID:1391-1549908000-1549915200@nacionalistazona.org
SUMMARY:Borítsuk fénybe a hősök útját
DESCRIPTION:A megemlékezés egy nem mindennapi formájára készülünk\, és azt szeretnénk\, hogy minél többen részesei legyetek. Tisztelegjünk méltó módon Budapest Erőd védői előtt\, és borítsuk fénybe egykori útjuk kezdeti szakaszát. \nArra kérünk benneteket\, hogy február 11-én 18 óra és 20 óra közt helyezzetek el legalább egy mécsest a Kapisztrán tér és a Széna tér közti szakaszon. Mécseseiteket ott helyezzétek el\, ahol a lánc kiérkezésetekkor éppen tart. \nMindenkit arra kérünk\, hogy az egységesség érdekében fehér\, kupakos mécsessel készüljön.\n\n \n– Légió Hungária / Programajánló / N.Z. – \n
URL:http://nacionalistazona.org/event/boritsuk-fenybe-a-hosok-utjat/
LOCATION:Budapest\, Budapest
ATTACH;FMTTYPE=image/png:http://nacionalistazona.org/wp-content/uploads/2019/01/Festung-Budapest-Hősök-útja-2.png
ORGANIZER;CN="L%C3%A9gi%C3%B3%20Hung%C3%A1ria":MAILTO:info@legiohungaria.org
END:VEVENT
END:VCALENDAR