BEGIN:VCALENDAR
VERSION:2.0
PRODID:-//Nacionalista Zóna - ECPv4.6.16//NONSGML v1.0//EN
CALSCALE:GREGORIAN
METHOD:PUBLISH
X-WR-CALNAME:Nacionalista Zóna
X-ORIGINAL-URL:http://nacionalistazona.org
X-WR-CALDESC:Events for Nacionalista Zóna
BEGIN:VEVENT
DTSTART;TZID=UTC+0:20190202T170000
DTEND;TZID=UTC+0:20190203T060000
DTSTAMP:20260420T181001
CREATED:20190120T221329Z
LAST-MODIFIED:20190120T221329Z
UID:1350-1549126800-1549173600@nacionalistazona.org
SUMMARY:Budai Kitörés Emléktúra 2019
DESCRIPTION:Találkozó: 17:00-kor a 11-es busz Nagybányai úti végállomásánál. \nAz emléktúra két részből áll.\nEgy rövidebb\, kényelmes emlékmenetből\, amely a Hüvösvölgyi katonasírig tart. Ez 6\,3 km-es táv\, amelyet a harci cselekmények felidézésével\, megemlékezésekkel\, kb 4 óra alatt teszünk meg. \nEmléklapot és kis\, kerek kitűzőt minden emléktúrázónak adunk. \nMajd onnan kezdődne a nagy emléktúra a Mány határában álló Kitörés emlékműhöz. \nAmi az idei emléktúrát egyedivé teszi\, hogy Anyácsapusztánál\, egy emlék- és ismertetőtáblát fogunk felavatni\, amely az ottani harci cselekményekről\, azok hőseiről\, áldozatairól ad leírást. \n \n– Budai Kitörés Emléktúra / Események / Nacionalista Zóna – \nKapcsolódó:\n \nOstromkalauz \n \nBecsület Napja \n \n  \n  \n
URL:http://nacionalistazona.org/event/budai-kitores-emlektura-2019/
LOCATION:Pest megye\, Magyarország
ATTACH;FMTTYPE=image/jpeg:http://nacionalistazona.org/wp-content/uploads/2019/01/49896905_2267107696841681_3935581698439249920_n.jpg
END:VEVENT
END:VCALENDAR