BEGIN:VCALENDAR
VERSION:2.0
PRODID:-//Nacionalista Zóna - ECPv4.6.16//NONSGML v1.0//EN
CALSCALE:GREGORIAN
METHOD:PUBLISH
X-WR-CALNAME:Nacionalista Zóna
X-ORIGINAL-URL:http://nacionalistazona.org
X-WR-CALDESC:Events for Nacionalista Zóna
BEGIN:VEVENT
DTSTART;VALUE=DATE:20220716
DTEND;VALUE=DATE:20220717
DTSTAMP:20260425T164745
CREATED:20220525T093637Z
LAST-MODIFIED:20220525T093637Z
UID:3090-1657929600-1658015999@nacionalistazona.org
SUMMARY:Cseresznye Gyuri Emlékkoncert
DESCRIPTION: \n
URL:http://nacionalistazona.org/event/cseresznye-gyuri-emlekkoncert/
LOCATION:Budapest\, Budapest
END:VEVENT
END:VCALENDAR