BEGIN:VCALENDAR
VERSION:2.0
PRODID:-//Nacionalista Zóna - ECPv4.6.16//NONSGML v1.0//EN
CALSCALE:GREGORIAN
METHOD:PUBLISH
X-WR-CALNAME:Nacionalista Zóna
X-ORIGINAL-URL:http://nacionalistazona.org
X-WR-CALDESC:Events for Nacionalista Zóna
BEGIN:VEVENT
DTSTART;TZID=UTC+0:20190302T130000
DTEND;TZID=UTC+0:20190302T170000
DTSTAMP:20260420T181311
CREATED:20190120T214318Z
LAST-MODIFIED:20190120T215325Z
UID:1342-1551531600-1551546000@nacionalistazona.org
SUMMARY:Emlékséta Mészáros Géza repülőhadnagy tiszteletére
DESCRIPTION:Mészáros Géza repülő hadnagy (1913-1939) \nA tavalyi évben szerveztük meg először a megemlékezéssel egybekötött túrát. Ezt a hagyományt folytatjuk és várunk mindenkit aki szeretné leróni tiszteletét.\nIdén lesz a 80. évfordulója a szerencsétlenségnek. \nBár a táv nem hosszú\, kérünk mindenkit\, hogy az öltözetét úgy válassza ki\, hogy a túra útvonalát az időjárás akár több km-en keresztül is hóval\, sárral nehezítheti.\nA túrán várhatóan érintünk más Csapodon található érdekességeket is. \n2019.03.02. szombat 13:00\nAz indulás helye:\nCsapod\, Birka Csárda.\nTáv: 7-8 km \nA 26 éves Mészáros Géza\, a Magyar Királyi Honvédség repülő hadnagya\, 1939. február 28-án zuhant le Csapod közelében\, a Szobavölgy dűlőben. \nCsillag László az „Egri napló” című lapban számolt be Mészáros Géza temetéséről. Cikke zárásaként\, a következő sorokkal búcsúzott a 26 éves repülő hadnagytól: \n„A gépek egyre keringtek\, a motorok egyre zúgtak és mi levett kalappal és tisztelegve álltunk Előtted\, néztünk fel Rád és köszöntöttünk:\n„Mészáros Géza repülő hadnagy úr\, jó repülést az ég felé!”. \nMészáros Géza repülőhadnagy teljes története elolvasható ITT. \n– Ultras Csapod / Események / N.Z. – \n
URL:http://nacionalistazona.org/event/emlekseta-meszaros-geza-repulohadnagy-tiszteletere/
LOCATION:Magyarország\, Csapod\, Győr-Moson-Sopron megye\, 9372
ATTACH;FMTTYPE=image/jpeg:http://nacionalistazona.org/wp-content/uploads/2019/01/50461314_2462967800399281_6748204803899260928_n.jpg
END:VEVENT
END:VCALENDAR