BEGIN:VCALENDAR
VERSION:2.0
PRODID:-//Nacionalista Zóna - ECPv4.6.16//NONSGML v1.0//EN
CALSCALE:GREGORIAN
METHOD:PUBLISH
X-WR-CALNAME:Nacionalista Zóna
X-ORIGINAL-URL:http://nacionalistazona.org
X-WR-CALDESC:Events for Nacionalista Zóna
BEGIN:VEVENT
DTSTART;VALUE=DATE:20230205
DTEND;VALUE=DATE:20230206
DTSTAMP:20260425T214649
CREATED:20230203T215551Z
LAST-MODIFIED:20230203T215551Z
UID:3429-1675555200-1675641599@nacionalistazona.org
SUMMARY:Hősök Útja - Fénylánc
DESCRIPTION:Az elmúlt években a kitörés megemlékezések körüli jogi küzdelmek mára mindenki előtt ismertekké váltak. A regnáló kormány és holdudvara\, bár előszeretettel aggatja magára a jobboldali\, konzervatív jelzőket\, Budapest ostromával és védőinek heroizmusával egyszerűen nem tud mit kezdeni. Profánul fogalmazva\, a szájába vette\, ízlelgette\, de minden esetben egyszerűen kiköpte\, mert a kitörés történelmi mozzanatában nincsen semmi\, amit a meleg-konzervativizmusuk képes lett volna a saját képére formálni. Ezért jobb esetben hallgattak róla\, rosszabb esetben a baloldali narratívát használva az esemény kapcsán igyekeztek negatív színben feltüntetni azt. Amikor pedig egyik sem sikerült\, jött a megemlékezés betiltása. \nTermészetesen minket sem abból a fából faragtak\, amelyik csak úgy feladná a szándékait. Ez az akarat szülte meg azt a formát\, mely legális lehetőséget teremt mindenkinek\, hogy egyénileg emlékezzen a február 11-én egy mécses lerakásával azon az útvonalon\, melyen az a bizonyos utolsó roham megindult 1945 fagyos téli estéjén. Amikor azokra a harcosokra emlékezünk\, akik a végsőkig hittek a régi világ győzelmében. Azokra a katonákra\, akik nem akartak sem átállni az ellenséghez\, sem megadni magukat az országban mindenfelé szovjet zászlókat kitűző vörös hadsereg előtt. Minden egyes lerakott mécses pislákoló fénye az ő áldozathozataluk előtti tisztelgés. Azé az áldozaté\, amelyet értünk hoztak és amiért megérdemlik\, hogy így vagy úgy\, de büszkén vállalva emlékezzünk rájuk. \nIdén ötödik alkalommal várunk tehát mindenkit február 11-én 16 órára a Kapisztrán térre. A Kitörés 60 Emlék- és Teljesítménytúra résztvevőit is arra kérjük\, hozzanak magukkal egy mécsest és kapcsolódjanak be a megemlékezésbe\, amelyen a megkezdett útvonalat folytatva alakuljon ki egy olyan hosszú fénylánc\, aminek a fénye ha nem is a Holdról\, de a Karmelita kolostorból is jól látszik majd. \n– Légió Hungária – \n
URL:http://nacionalistazona.org/event/hosok-utja-fenylanc/
LOCATION:Budapest\, Budapest
ATTACH;FMTTYPE=image/png:http://nacionalistazona.org/wp-content/uploads/2023/02/Festung-Budapest-Hősök-útja.png
ORGANIZER;CN="L%C3%A9gi%C3%B3%20Hung%C3%A1ria":MAILTO:info@legiohungaria.org
END:VEVENT
END:VCALENDAR