BEGIN:VCALENDAR
VERSION:2.0
PRODID:-//Nacionalista Zóna - ECPv4.6.16//NONSGML v1.0//EN
CALSCALE:GREGORIAN
METHOD:PUBLISH
X-WR-CALNAME:Nacionalista Zóna
X-ORIGINAL-URL:http://nacionalistazona.org
X-WR-CALDESC:Events for Nacionalista Zóna
BEGIN:VEVENT
DTSTART;VALUE=DATE:20220528
DTEND;VALUE=DATE:20220529
DTSTAMP:20260425T202857
CREATED:20220412T113655Z
LAST-MODIFIED:20220412T113655Z
UID:3031-1653696000-1653782399@nacionalistazona.org
SUMMARY:I. Nemzeti Véradás
DESCRIPTION: \n
URL:http://nacionalistazona.org/event/i-nemzeti-veradas/
LOCATION:Komárom-Esztergom\, Magyarország
ORGANIZER;CN="Bety%C3%A1rsereg":MAILTO:fajnemesites@gmail.com
END:VEVENT
END:VCALENDAR