BEGIN:VCALENDAR
VERSION:2.0
PRODID:-//Nacionalista Zóna - ECPv4.6.16//NONSGML v1.0//EN
CALSCALE:GREGORIAN
METHOD:PUBLISH
X-WR-CALNAME:Nacionalista Zóna
X-ORIGINAL-URL:http://nacionalistazona.org
X-WR-CALDESC:Events for Nacionalista Zóna
BEGIN:VEVENT
DTSTART;VALUE=DATE:20220910
DTEND;VALUE=DATE:20220911
DTSTAMP:20260425T151509
CREATED:20220901T105831Z
LAST-MODIFIED:20220905T151026Z
UID:3194-1662768000-1662854399@nacionalistazona.org
SUMMARY:ISD memorial koncert
DESCRIPTION:A szervezők üzenetét továbbítjuk: \n“Bajtársak! \nA szombati Ian Stuart emlékkoncertünk gyülekezési pontja: \nMór\, Lidl parkoló\, a dohányboltnál\n17:30-tól 19:00-ig\nOtt fogjuk megmondani a rendezvény pontos helyszínét. \nKapunyitás: 18:00\nKezdés: 20:00\n– Fehér Törvény\n– Jogos Önvédelem\n– Archívum \nFotó és videó készítése szigorúan tilos! \nHeil Ian Stuart! Heil Blood&Honour!” \n \nIan Stuartot a legtöbben úgy ismerik\, mint zenészt: a legendás Skrewdriver zenekar frontemberét\, pedig Ő sokkal több volt egyszerű énekesnél.Az Ő életútja a Harcos életútja volt\, és harcához a leghatékonyabb fegyver a zene volt – írják a zenész emlékére koncertet – írják a szervezők\, alább a foyltatás. \nZenekarával\, a Skrewdriverrel világszerte tömegeket ismertetett meg és vonzott a nemzetiszocializmus táborába. Igényes zenéjével szólt\, és szól hozzánk a mai napig is a fehér faj felsőbbrendűségéről; a dicső európai kultúráról; a szabadságról; a minket érő elnyomásról; a harc és az összefogás szükségességéről. \nA zenélés mellett politikai aktivista is volt: a NF londoni ifjúsági szervezetének vezetője\, illetve a Skrewdriverrel is az NF által szervezett White Noise zenei mozgalom főtámogatói voltak. Egy idő után rájött\, hogy az NF zsákutca\, mert a szavazatok érdekében kihasználják a skinheadeket és valójában egyáltalán nem azt a nacionalista vonalat képviselik\, amit hirdetnek\, mert már csak a hatalom és a pénz számított a pártnak. Szakìtott a pártpolitikával\, mivel felismerte\, hogy ott csak a zsidók játékszabályaival lehet érvényesülni\, sajnos az egyenes\, becsületes utat ellehetetlenítették. \nAz Eszme jövőjét a pártoktól független mozgalomban látta meg\, ezért életre hívta a Blood and Honour mozgalmat. Az Ő példájára aztán világszerte szerveződni kezdtek a skinheadek a BH és a vele szövetséges NS mozgalmak zászlói alá. A ’80-as\, ’90-es években az NS skinhead mozgalom a fénykorát élte Ian Stuart és a Skrewdriver hatására. \nTermészetesen a cionosta hatalom sem nézte ezt tétlenül: a Skrewdriver koncertjeit rendre megpróbálták betiltani\, ellehetetleníteni. Ian Stuartra is vadászott az antifa\, aki viszont sosem rettent meg a harctól vagy a túlerőtől\, bátran szembeszállt az ellenséggel. Egy verekedés után börtönre is ítélték\, ahonnan küldetéstudatában megerősödve szabadult és még nagyobb erőbedobással folytatta a harcot. Az NS mozgalom tovább erősödött\, ezért aztán a cionista hatalom autóbalesetnek álcázva likvidálta Őt. \nSzámunkra Ian Stuart az egyik legnagyobb példakép\, mert megmutatta mi a bátorság\, az önfeláldozás. Ha Ő is\, mint sok más zenész\, megtagadta volna nézeteit\, talán ma is élhetne gazdagságban\, jólétben\, de Ő bátran kitartott az NS eszme mellett és a harcot\, – majd ahogy az egyik dalában is megjövendölte – a halált választotta. Ezáltal viszont elnyerte az örök dicsőséget és méltán foglal helyet a Hősök Csarnokában! \nIan Stuart életútjával azt üzeni nekünk\, hogy legyünk aktívak\, bátrak és vállaljuk a harcot – még ha reménytelennek tűnik is – egy igazabb\, emberibb világért! \nÉljen Ian Stuart! Éljen a Győzelem! \n– Kuruc.info / Programajánló – \n
URL:http://nacionalistazona.org/event/isd-memorial-koncert/
END:VEVENT
END:VCALENDAR