BEGIN:VCALENDAR
VERSION:2.0
PRODID:-//Nacionalista Zóna - ECPv4.6.16//NONSGML v1.0//EN
CALSCALE:GREGORIAN
METHOD:PUBLISH
X-WR-CALNAME:Nacionalista Zóna
X-ORIGINAL-URL:http://nacionalistazona.org
X-WR-CALDESC:Events for Nacionalista Zóna
BEGIN:VEVENT
DTSTART;VALUE=DATE:20230211
DTEND;VALUE=DATE:20230212
DTSTAMP:20260425T234717
CREATED:20230131T161043Z
LAST-MODIFIED:20230131T161043Z
UID:3414-1676073600-1676159999@nacionalistazona.org
SUMMARY:Kitörés 60 emlék- és teljesítménytúra
DESCRIPTION:\nA szervezők immár XVI. alkalommal rendezzük meg Magyarország leghosszabb\, legkeményebb\, téli\, éjszakai teljesítménytúráját\, a Kitörés-t! \nDátum: 2023. február 11-12. \nKötelező online előnevezés! További információk a HIVATKOZÁSRA kattintva. \n – Kitöréstúra.hu nyomán Nacionalista Zóna – \n\n
URL:http://nacionalistazona.org/event/kitores-60-emlek-es-teljesitmenytura-2/
LOCATION:Pest megye\, Magyarország
ATTACH;FMTTYPE=image/jpeg:http://nacionalistazona.org/wp-content/uploads/2023/01/photo_2023-01-10_10-37-30.jpg
END:VEVENT
END:VCALENDAR