BEGIN:VCALENDAR
VERSION:2.0
PRODID:-//Nacionalista Zóna - ECPv4.6.16//NONSGML v1.0//EN
CALSCALE:GREGORIAN
METHOD:PUBLISH
X-WR-CALNAME:Nacionalista Zóna
X-ORIGINAL-URL:http://nacionalistazona.org
X-WR-CALDESC:Events for Nacionalista Zóna
BEGIN:VEVENT
DTSTART;VALUE=DATE:20230211
DTEND;VALUE=DATE:20230212
DTSTAMP:20260425T234121
CREATED:20230131T162027Z
LAST-MODIFIED:20230131T162027Z
UID:3423-1676073600-1676159999@nacionalistazona.org
SUMMARY:Kitörés Emlékkoncert
DESCRIPTION:
URL:http://nacionalistazona.org/event/kitores-emlekkoncert/
ATTACH;FMTTYPE=image/jpeg:http://nacionalistazona.org/wp-content/uploads/2023/01/photo_2023-01-15_16-06-20.jpg
END:VEVENT
END:VCALENDAR