BEGIN:VCALENDAR
VERSION:2.0
PRODID:-//Nacionalista Zóna - ECPv4.6.16//NONSGML v1.0//EN
CALSCALE:GREGORIAN
METHOD:PUBLISH
X-WR-CALNAME:Nacionalista Zóna
X-ORIGINAL-URL:http://nacionalistazona.org
X-WR-CALDESC:Events for Nacionalista Zóna
BEGIN:VEVENT
DTSTART;VALUE=DATE:20231022
DTEND;VALUE=DATE:20231023
DTSTAMP:20260425T233256
CREATED:20231018T094405Z
LAST-MODIFIED:20231018T094405Z
UID:3727-1697932800-1698019199@nacionalistazona.org
SUMMARY:Kövesd a lángot! - tisztelgés antibolsevik szabadságharcunk hősei előtt
DESCRIPTION:Minden további információ ITT! \n  \n \n
URL:http://nacionalistazona.org/event/kovesd-a-langot-tisztelges-antibolsevik-szabadsagharcunk-hosei-elott/
ORGANIZER;CN="L%C3%A9gi%C3%B3%20Hung%C3%A1ria":MAILTO:info@legiohungaria.org
END:VEVENT
END:VCALENDAR