BEGIN:VCALENDAR
VERSION:2.0
PRODID:-//Nacionalista Zóna - ECPv4.6.16//NONSGML v1.0//EN
CALSCALE:GREGORIAN
METHOD:PUBLISH
X-WR-CALNAME:Nacionalista Zóna
X-ORIGINAL-URL:http://nacionalistazona.org
X-WR-CALDESC:Events for Nacionalista Zóna
BEGIN:VEVENT
DTSTART;VALUE=DATE:20221112
DTEND;VALUE=DATE:20221113
DTSTAMP:20260425T175749
CREATED:20221012T135957Z
LAST-MODIFIED:20221012T135957Z
UID:3262-1668211200-1668297599@nacionalistazona.org
SUMMARY:Mecseki Láthatatlanok Emléktúra
DESCRIPTION:\nAlábbiakban a Légió Hungária felhívása olvasható: \n“Fel a Mecsekbe!” \nHatodik alkalommal rendezzük meg emléktúránkat\, mellyel a 1956-os forradalom baranyai hősei előtt tisztelgünk. Idén teljesen új útvonalon érintjük a Mecseki Láthatatlanok olyan emlékezetes helyszíneit\, melyek eddig nem szerepeltek túránkban. \nIndulás időpontja: 2022.november 12. 7 óra. Pécsvárad.\nTúra hossza: kb 30 km \nA túrán való részvétel regisztrációhoz kötött! A részvételhez az  info@legiohungaria.org e-mail címen kell regisztrálni november 4-ig. \n\nBajtársi üdvözlettel\,\nLégió Hungária\n
URL:http://nacionalistazona.org/event/mecseki-lathatatlanok-emlektura-4/
ATTACH;FMTTYPE=image/png:http://nacionalistazona.org/wp-content/uploads/2022/10/MecsekiLáthatatlanok.png
ORGANIZER;CN="L%C3%A9gi%C3%B3%20Hung%C3%A1ria":MAILTO:info@legiohungaria.org
END:VEVENT
END:VCALENDAR