BEGIN:VCALENDAR
VERSION:2.0
PRODID:-//Nacionalista Zóna - ECPv4.6.16//NONSGML v1.0//EN
CALSCALE:GREGORIAN
METHOD:PUBLISH
X-WR-CALNAME:Nacionalista Zóna
X-ORIGINAL-URL:http://nacionalistazona.org
X-WR-CALDESC:Events for Nacionalista Zóna
BEGIN:VEVENT
DTSTART;VALUE=DATE:20221210
DTEND;VALUE=DATE:20221211
DTSTAMP:20260425T153232
CREATED:20220919T130512Z
LAST-MODIFIED:20220919T130512Z
UID:3231-1670630400-1670716799@nacionalistazona.org
SUMMARY:Oi-Kor\, Vérszerződés Hódmezővásárhely
DESCRIPTION: \n
URL:http://nacionalistazona.org/event/oi-kor-verszerzodes-hodmezovasarhely-2/
END:VEVENT
END:VCALENDAR