BEGIN:VCALENDAR
VERSION:2.0
PRODID:-//Nacionalista Zóna - ECPv4.6.16//NONSGML v1.0//EN
CALSCALE:GREGORIAN
METHOD:PUBLISH
X-WR-CALNAME:Nacionalista Zóna
X-ORIGINAL-URL:http://nacionalistazona.org
X-WR-CALDESC:Events for Nacionalista Zóna
BEGIN:VEVENT
DTSTART;TZID=UTC+0:20181116T200000
DTEND;TZID=UTC+0:20181116T235900
DTSTAMP:20260425T182720
CREATED:20181003T095654Z
LAST-MODIFIED:20181003T095654Z
UID:852-1542398400-1542412740@nacionalistazona.org
SUMMARY:Romer ✠ Mindig skinhead Turné ✠ Győr Club Django (volt ToRock)
DESCRIPTION:➽ 2018.11.16. péntek\n➽ ROMER – Mindig skinhead Turné 2018\n➽ HELYSZÍN\nGyőr – Club Django (volt ToRock) (Bartók B. út 1-3.) \n➽ MENETREND\n20:00 kapunyitás\n21:00 SZIVA BALÁZS ÉS A SZENT SUHANCOK\n22:00 ROMANTIKUS ERŐSZAK \n➽ JEGYEK // TICKETS\n1.499 Ft online jegy Tixa \nA koncert napján a helyszínen: 1.999 Ft \n➽ ONLINE ELŐVÉTEL \n➽ JEGYINFORMÁCIÓ\nA belépő egyszeri belépésre jogosít fel! \n➽ KORHATÁR A PROGRAMOKRA\n16 éven aluliak csak szülői kísérettel vehetnek részt a koncerten! \n– Nemzeti Dal Produkció / Események / N.Z. – \n
URL:http://nacionalistazona.org/event/romer-%e2%9c%a0-mindig-skinhead-turne-%e2%9c%a0-gyor-club-django-volt-torock/
LOCATION:Bartók Béla út 1-3\, Győr\, Győr-Moson-Sopron megye\, 9023\, Magyarország
ATTACH;FMTTYPE=image/jpeg:http://nacionalistazona.org/wp-content/uploads/2018/10/40564487_242637499657440_9093596486154846208_n.jpg
END:VEVENT
END:VCALENDAR