BEGIN:VCALENDAR
VERSION:2.0
PRODID:-//Nacionalista Zóna - ECPv4.6.16//NONSGML v1.0//EN
CALSCALE:GREGORIAN
METHOD:PUBLISH
X-WR-CALNAME:Nacionalista Zóna
X-ORIGINAL-URL:http://nacionalistazona.org
X-WR-CALDESC:Events for Nacionalista Zóna
BEGIN:VEVENT
DTSTART;TZID=UTC+0:20190315T200000
DTEND;TZID=UTC+0:20190315T233000
DTSTAMP:20260420T235215
CREATED:20190217T211546Z
LAST-MODIFIED:20190217T211546Z
UID:1422-1552680000-1552692600@nacionalistazona.org
SUMMARY:Tolnai Geri Emlékkoncert - Nyíregyháza
DESCRIPTION:
URL:http://nacionalistazona.org/event/tolnai-geri-emlekkoncert-nyiregyhaza/
LOCATION:Bethlen Gábor utca 24.\, Nyíregyháza\, Szabolcs-Szatmár-Bereg megye\, 4400
ATTACH;FMTTYPE=image/jpeg:http://nacionalistazona.org/wp-content/uploads/2019/02/FB_IMG_1550405183938.jpg
END:VEVENT
END:VCALENDAR