BEGIN:VCALENDAR
VERSION:2.0
PRODID:-//Nacionalista Zóna - ECPv4.6.16//NONSGML v1.0//EN
CALSCALE:GREGORIAN
METHOD:PUBLISH
X-WR-CALNAME:Nacionalista Zóna
X-ORIGINAL-URL:http://nacionalistazona.org
X-WR-CALDESC:Events for Nacionalista Zóna
BEGIN:VEVENT
DTSTART;VALUE=DATE:20220924
DTEND;VALUE=DATE:20220925
DTSTAMP:20260425T132706
CREATED:20220919T130317Z
LAST-MODIFIED:20220919T130317Z
UID:3228-1663977600-1664063999@nacionalistazona.org
SUMMARY:Závodi Betyár Hétvége
DESCRIPTION: \n
URL:http://nacionalistazona.org/event/zavodi-betyar-hetvege/
ORGANIZER;CN="Bety%C3%A1rsereg":MAILTO:fajnemesites@gmail.com
END:VEVENT
END:VCALENDAR